BEGIN:VCALENDAR
VERSION:2.0
PRODID:-//Welcome to Penwerkz - ECPv6.15.20//NONSGML v1.0//EN
CALSCALE:GREGORIAN
METHOD:PUBLISH
X-ORIGINAL-URL:https://www.penwerkz.com
X-WR-CALDESC:Events for Welcome to Penwerkz
REFRESH-INTERVAL;VALUE=DURATION:PT1H
X-Robots-Tag:noindex
X-PUBLISHED-TTL:PT1H
BEGIN:VTIMEZONE
TZID:America/Los_Angeles
BEGIN:DAYLIGHT
TZOFFSETFROM:-0800
TZOFFSETTO:-0700
TZNAME:PDT
DTSTART:20170312T100000
END:DAYLIGHT
BEGIN:STANDARD
TZOFFSETFROM:-0700
TZOFFSETTO:-0800
TZNAME:PST
DTSTART:20171105T090000
END:STANDARD
BEGIN:DAYLIGHT
TZOFFSETFROM:-0800
TZOFFSETTO:-0700
TZNAME:PDT
DTSTART:20180311T100000
END:DAYLIGHT
BEGIN:STANDARD
TZOFFSETFROM:-0700
TZOFFSETTO:-0800
TZNAME:PST
DTSTART:20181104T090000
END:STANDARD
BEGIN:DAYLIGHT
TZOFFSETFROM:-0800
TZOFFSETTO:-0700
TZNAME:PDT
DTSTART:20190310T100000
END:DAYLIGHT
BEGIN:STANDARD
TZOFFSETFROM:-0700
TZOFFSETTO:-0800
TZNAME:PST
DTSTART:20191103T090000
END:STANDARD
END:VTIMEZONE
BEGIN:VEVENT
DTSTART;TZID=America/Los_Angeles:20181115T183000
DTEND;TZID=America/Los_Angeles:20181115T203000
DTSTAMP:20260424T022124
CREATED:20181110T205911Z
LAST-MODIFIED:20181110T210108Z
UID:6853-1542306600-1542313800@www.penwerkz.com
SUMMARY:Orange County Woodturners
DESCRIPTION:Orange County Woodturners is a special interest group of the Orange County Woodworkers Association\, located in Orange County\, California. \nMeeting on the 3rd Thursday of each month\, our purpose is to provide a forum for OCWA members and guests who have an interest in woodturning. \n 
URL:https://www.penwerkz.com/event/orange-county-woodturners/2018-11-15/
LOCATION:Orange County Wood Turners\, 200 C Street\, Tustin\, CA\, 92780\, United States
CATEGORIES:Association Meetings
ATTACH;FMTTYPE=image/jpeg:https://www.penwerkz.com/wp-content/uploads/2018/11/A9556D76-738E-4B3D-9C38-713170E3753F.jpeg
GEO:33.7439916;-117.8257393
X-APPLE-STRUCTURED-LOCATION;VALUE=URI;X-ADDRESS=Orange County Wood Turners 200 C Street Tustin CA 92780 United States;X-APPLE-RADIUS=500;X-TITLE=200 C Street:geo:-117.8257393,33.7439916
END:VEVENT
END:VCALENDAR